BEGIN:VCALENDAR
VERSION:2.0
PRODID:Familiensonntag im Deutschen Zeitungsmuseum
BEGIN:VEVENT
UID:20260423T13:33:28-20260503T13:30:00-20260503T16:00:00
LOCATION:Deutsches Zeitungsmuseum\, Am Abteihof 1\,  66787 Wadgassen
SUMMARY:Familiensonntag im Deutschen Zeitungsmuseum
DESCRIPTION:<p><strong>Eintrittsfreier Sonntag in den Museen der Stiftung Saarländischer Kulturbesitz jeden 1. Sonntag im Monat</strong></p>
<p>Am Sonntag, den 3. Mai ist der Eintritt in das Deutsche Zeitungsmuseum frei - wie immer am ersten Sonntag im Monat!</p>
<p>An diesem Tag besteht zum letzten Mal die Gelegenheit, sich die Sonderausstellung über die “Simpsons” anzusehen!</p>
<p>Bestandteil der Sonderausstellung "Die Simpsons" ist eine Comic-Werkstatt, in der grundlegende Kenntnisse über das Zeichnen von Comics erlernt werden können. Die Comic-Werkstatt ist für alle Altersgruppen geeignet! </p>
<p>Von 14 bis 15 Uhr sowie von 15 bis 16 Uhr findet jeweils eine öffentliche und kostenlose Führung durch die "Simpsons"-Ausstellung statt; Treffpunkt ist an der Museumskasse.</p>
CLASS:PUBLIC
DTSTART:20260503T13:30:00
DTEND:20260503T16:00:00
DTSTAMP:20260423T13:33:28
END:VEVENT
END:VCALENDAR